BEGIN:VCALENDAR
VERSION:2.0
PRODID:-//Squarespace Inc/Squarespace 6//v6//EN
BEGIN:VEVENT
UID:5c50154f88251b62c08a9917@squarespace.com
DTSTAMP:20190204T085434Z
DTSTART:20190211T080000Z
DTEND:20190211T105000Z
SUMMARY: BLOG CAFE : Colorez votre vie !
GEO:49.618725;6.101101
LOCATION:CHL 2 ième étage /bureau BLOG CANCER SEIN Unité 26\, 4\, Rue Nicol
 as Ernest Barblé\, Luxembourg\, District de Luxembourg\, 1210\, Luxembourg
END:VEVENT
END:VCALENDAR
