BEGIN:VCALENDAR
VERSION:2.0
PRODID:-//Squarespace Inc/Squarespace 6//v6//EN
BEGIN:VEVENT
UID:5c3467ceb8a04568549a151a@squarespace.com
DTSTAMP:20190108T090650Z
DTSTART:20190225T123000Z
DTEND:20190225T143000Z
SUMMARY: Entspannungsgrupp
GEO:49.617495;6.09864
LOCATION:Maternité\, 2\,Rue Pierre Federspiel\, Luxembourg\, District de Lu
 xembourg\, 1512\, Luxembourg
END:VEVENT
END:VCALENDAR
