BEGIN:VCALENDAR
VERSION:2.0
PRODID:-//Squarespace Inc/Squarespace 6//v6//EN
BEGIN:VEVENT
UID:5c3467c8f950b7c5fce9c25a@squarespace.com
DTSTAMP:20190108T090813Z
DTSTART:20190325T123000Z
DTEND:20190325T143000Z
SUMMARY:Entspannungsgrupp
GEO:49.617495;6.09864
LOCATION:Maternité\, 2\,Rue Pierre Federspiel\, Luxembourg\, District de Lu
 xembourg\, 1512\, Luxembourg
END:VEVENT
END:VCALENDAR
