BEGIN:VCALENDAR
VERSION:2.0
PRODID:-//Squarespace Inc/Squarespace 6//v6//EN
BEGIN:VEVENT
UID:5c3467a221c67ce5720b0ea7@squarespace.com
DTSTAMP:20190108T091106Z
DTSTART:20190527T113000Z
DTEND:20190527T133000Z
SUMMARY:Entspannungsgrupp
GEO:49.617495;6.09864
LOCATION:Maternité\, 2\,Rue Pierre Federspiel\, Luxembourg\, District de Lu
 xembourg\, 1512\, Luxembourg
END:VEVENT
END:VCALENDAR
