BEGIN:VCALENDAR
VERSION:2.0
PRODID:-//Squarespace Inc/Squarespace 6//v6//EN
BEGIN:VEVENT
UID:5d1b1397768fab000141b869@squarespace.com
DTSTAMP:20190702T082053Z
DTSTART:20191001T113000Z
DTEND:20191001T133000Z
SUMMARY:Entspannungsgrupp
GEO:49.617495;6.09864
LOCATION:Maternité\, 2\,Rue Pierre Federspiel\, Luxembourg\, District de Lu
 xembourg\, 1512\, Luxembourg
END:VEVENT
END:VCALENDAR
