BEGIN:VCALENDAR
VERSION:2.0
PRODID:-//Squarespace Inc/Squarespace 6//v6//EN
BEGIN:VEVENT
UID:5e37fcb412092f15879416e9@squarespace.com
DTSTAMP:20200203T110519Z
DTSTART:20200204T123000Z
DTEND:20200204T143000Z
SUMMARY:Entspannungsgrupp 
GEO:49.617495;6.09864
LOCATION:Maternité\, 2\,Rue Pierre Federspiel\, Luxembourg\, District de Lu
 xembourg\, 1512\, Luxembourg
END:VEVENT
END:VCALENDAR
