BEGIN:VCALENDAR
VERSION:2.0
PRODID:-//Squarespace Inc/Squarespace 6//v6//EN
BEGIN:VEVENT
UID:5d1b18a5ac96b9000135e0bf@squarespace.com
DTSTAMP:20190702T084142Z
DTSTART:20191022T113000Z
DTEND:20191022T133000Z
SUMMARY:Entspannungsgrupp
GEO:49.617495;6.09864
LOCATION:Maternité\, 2\,Rue Pierre Federspiel\, Luxembourg\, District de Lu
 xembourg\, 1512\, Luxembourg
END:VEVENT
END:VCALENDAR
