BEGIN:VCALENDAR
VERSION:2.0
PRODID:-//Squarespace Inc/Squarespace 6//v6//EN
BEGIN:VEVENT
UID:5c514f3a8a922d4b00d3fdfc@squarespace.com
DTSTAMP:20190130T075744Z
DTSTART:20190213T233000Z
DTEND:20190214T120000Z
SUMMARY:WIN : presentation de l’oeuvre participative de Jacques Schneider
GEO:49.610927;6.131764
LOCATION:Place de Clairefontaine\, L-1536 Luxembourg\, Luxembourg
END:VEVENT
END:VCALENDAR
