BEGIN:VCALENDAR
VERSION:2.0
PRODID:-//Squarespace Inc/Squarespace 6//v6//EN
BEGIN:VEVENT
UID:5c73ea0f41920257611a3e72@squarespace.com
DTSTAMP:20190225T135553Z
DTSTART:20190318T080000Z
DTEND:20190318T110000Z
SUMMARY:Blog cafe : Recommencer le travail après un cancer 
END:VEVENT
END:VCALENDAR
