BEGIN:VCALENDAR
VERSION:2.0
PRODID:-//Squarespace Inc/Squarespace 6//v6//EN
BEGIN:VEVENT
UID:5c4efe6fb9144313efed9074@squarespace.com
DTSTAMP:20190325T091247Z
DTSTART:20190205T100000Z
DTEND:20190625T100000Z
SUMMARY:Cours d'escrime 
GEO:49.484079;5.979093
LOCATION:Cercle Escrime Sud     salle d'armes\, rue J.-P. Bausch\, 4023 Esc
 h-sur-Alzette\, Luxembourg
END:VEVENT
END:VCALENDAR
