BEGIN:VCALENDAR
VERSION:2.0
PRODID:-//Squarespace Inc/Squarespace 6//v6//EN
BEGIN:VEVENT
UID:5c593d23c830252ca2c15fc6@squarespace.com
DTSTAMP:20190205T075945Z
DTSTART:20190209T130000Z
DTEND:20190209T210000Z
SUMMARY:Yoga du froid
GEO:49.547051;6.323828
LOCATION:rdv au parking à côté du cimetière\, L-5221 Erpeldange-lez-Bous \, 
 Luxembourg
END:VEVENT
END:VCALENDAR
