BEGIN:VCALENDAR
VERSION:2.0
PRODID:-//Squarespace Inc/Squarespace 6//v6//EN
BEGIN:VEVENT
UID:5ca1ea13c83025bf8a275749@squarespace.com
DTSTAMP:20190514T063511Z
DTSTART:20190603T070000Z
DTEND:20190603T100000Z
SUMMARY:Blog Café : Libérez vous par le rire et découvrez ses bienfaits 
GEO:49.618725;6.101101
LOCATION:Centre Hospitalier du Luxembourg  /Salle R2B/ Rez-de-chaussée\, 4\
 , Rue Nicolas Ernest Barblé\, Luxembourg\, District de Luxembourg\, 1210\, 
 Luxembourg
END:VEVENT
END:VCALENDAR
