BEGIN:VCALENDAR
VERSION:2.0
PRODID:-//Squarespace Inc/Squarespace 6//v6//EN
BEGIN:VEVENT
UID:5c99f04624a6941978c50b2d@squarespace.com
DTSTAMP:20190408T071309Z
DTSTART:20190506T070000Z
DTEND:20190506T103000Z
SUMMARY:BLOG CAFÉ : Sports et cancer
GEO:49.618725;6.101101
LOCATION:Centre Hospitalier du Luxembourg\, 4\, Rue Nicolas Ernest Barblé\, 
 Luxembourg\, District de Luxembourg\, 1210\, Luxembourg
END:VEVENT
END:VCALENDAR
