BEGIN:VCALENDAR
VERSION:2.0
PRODID:-//Squarespace Inc/Squarespace 6//v6//EN
BEGIN:VEVENT
UID:5cd95488fa0d600147c1fe13@squarespace.com
DTSTAMP:20190513T114328Z
DTSTART:20190628T063000Z
DTEND:20190628T143000Z
SUMMARY:Journée découverte au centre de réhabilitation du château de Colpac
 h
GEO:49.759152;5.825452
LOCATION:Centre de Réhabititation du château de Colpach\, 1\, Rue d'Ell\, 8
 527 Colpach-Bas\, Luxembourg
END:VEVENT
END:VCALENDAR
