BEGIN:VCALENDAR
VERSION:2.0
PRODID:-//Squarespace Inc/Squarespace 6//v6//EN
BEGIN:VEVENT
UID:5d107aa2247fa10001ff8eac@squarespace.com
DTSTAMP:20190624T073432Z
DTSTART:20190706T113000Z
DTEND:20190706T161500Z
SUMMARY:Krav Maga contre le cancer du sein
GEO:49.492089;6.352611
LOCATION:Sportshaal\, 25\, Wäistrooss\, L-5440 Remerschen\, Luxembourg
END:VEVENT
END:VCALENDAR
