BEGIN:VCALENDAR
VERSION:2.0
PRODID:-//Squarespace Inc/Squarespace 6//v6//EN
BEGIN:VEVENT
UID:5e38006f3e87613dac1c682d@squarespace.com
DTSTAMP:20200203T111505Z
DTSTART:20200317T123000Z
DTEND:20200317T143000Z
SUMMARY:Ateliers de relaxation\, de stabilisation émotionnelle    
END:VEVENT
END:VCALENDAR
