BEGIN:VCALENDAR
VERSION:2.0
PRODID:-//Squarespace Inc/Squarespace 6//v6//EN
BEGIN:VEVENT
UID:5d1b185b5536ce0001d42acb@squarespace.com
DTSTAMP:20190702T084046Z
DTSTART:20191015T113000Z
DTEND:20191015T133000Z
SUMMARY:Ateliers de relaxation\, de stabilisation émotionnelle
END:VEVENT
END:VCALENDAR
