BEGIN:VCALENDAR
VERSION:2.0
PRODID:-//Squarespace Inc/Squarespace 6//v6//EN
BEGIN:VEVENT
UID:5d36cbe8cf043f0001a04f56@squarespace.com
DTSTAMP:20190723T090534Z
DTSTART:20190921T080000Z
DTEND:20190921T110000Z
SUMMARY:Laf géint de Kriibs 
END:VEVENT
END:VCALENDAR
