BEGIN:VCALENDAR
VERSION:2.0
PRODID:-//Squarespace Inc/Squarespace 6//v6//EN
BEGIN:VEVENT
UID:5d1b0fd8768fab0001419732@squarespace.com
DTSTAMP:20190702T081741Z
DTSTART:20190903T113000Z
DTEND:20190903T133000Z
SUMMARY:Entspannungsgrupp
END:VEVENT
END:VCALENDAR
