BEGIN:VCALENDAR
VERSION:2.0
PRODID:-//Squarespace Inc/Squarespace 6//v6//EN
BEGIN:VEVENT
UID:5d1b1254d6d53f000159aeb5@squarespace.com
DTSTAMP:20190702T081705Z
DTSTART:20190917T113000Z
DTEND:20190917T133000Z
SUMMARY:Entspannungsgrupp
END:VEVENT
END:VCALENDAR
