BEGIN:VCALENDAR
VERSION:2.0
PRODID:-//Squarespace Inc/Squarespace 6//v6//EN
BEGIN:VEVENT
UID:5e2562cb556e15498ad172e4@squarespace.com
DTSTAMP:20200120T092419Z
DTSTART:20200128T080000Z
DTEND:20200128T160000Z
SUMMARY:Journée CHL Kriibszentrum
GEO:49.619061;6.100258
LOCATION:Centre hospitalier du Luxembourg\, Rue Nicolas Ernest Barblé\, Lux
 embourg\, District de Luxembourg\, 1257\, Luxembourg
END:VEVENT
END:VCALENDAR
