BEGIN:VCALENDAR
VERSION:2.0
PRODID:-//Squarespace Inc/Squarespace 6//v6//EN
BEGIN:VEVENT
UID:5e54f0184eb2985cbbfbe39b@squarespace.com
DTSTAMP:20200302T075402Z
DTSTART:20200314T130000Z
DTEND:20200314T143000Z
SUMMARY:Rajeunir et guérir 
GEO:49.603719;6.084295
LOCATION:Life Harmony Pilates  Essentrics  and Emotional coaching\, 488 Rou
 te de Longwy\, Luxembourg\, District de Luxembourg\, 1940\, Luxembourg
END:VEVENT
END:VCALENDAR
