BEGIN:VCALENDAR
VERSION:2.0
PRODID:-//Squarespace Inc/Squarespace 6//v6//EN
BEGIN:VEVENT
UID:5e38116ecd5a0d4354247e31@squarespace.com
DTSTAMP:20200310T082214Z
DTSTART:20200321T180000Z
DTEND:20200321T190000Z
SUMMARY:Relais pour la vie  ANNULÉ
END:VEVENT
END:VCALENDAR
