BEGIN:VCALENDAR
VERSION:2.0
PRODID:-//Squarespace Inc/Squarespace 6//v6//EN
BEGIN:VEVENT
UID:5d1b119110e8d80001b29461@squarespace.com
DTSTAMP:20190702T081329Z
DTSTART:20190910T113000Z
DTEND:20190910T133000Z
SUMMARY:Ateliers de relaxation\, de stabilisation émotionnelle 
END:VEVENT
END:VCALENDAR
