BEGIN:VCALENDAR
VERSION:2.0
PRODID:-//Squarespace Inc/Squarespace 6//v6//EN
BEGIN:VEVENT
UID:5b3b34fa352f53759500b6cd@squarespace.com
DTSTAMP:20180703T091059Z
DTSTART:20180807T113000Z
DTEND:20180807T133000Z
SUMMARY:Ateliers de relaxations\, de stabilisation émotionnelle
GEO:49.617495;6.09864
LOCATION:Maternité\, 2\, Rue Pierre Federspiel\, Luxembourg\, District de L
 uxembourg\, 1512\, Luxembourg
END:VEVENT
END:VCALENDAR
