BEGIN:VCALENDAR
VERSION:2.0
PRODID:-//Squarespace Inc/Squarespace 6//v6//EN
BEGIN:VEVENT
UID:5b113459aa4a993871cb1618@squarespace.com
DTSTAMP:20180613T115805Z
DTSTART:20180620T143000Z
DTEND:20180620T180000Z
SUMMARY:CONFERENCE EUROPA DONNA Luxembourg
GEO:49.618725;6.101101
LOCATION:CENTRE HOSPITALIER du Luxembourg\, 4\, Rue Nicolas Ernest Barblé\, 
 Luxembourg\, District de Luxembourg\, 1210\, Luxembourg
END:VEVENT
END:VCALENDAR
