BEGIN:VCALENDAR
VERSION:2.0
PRODID:-//Squarespace Inc/Squarespace 6//v6//EN
BEGIN:VEVENT
UID:5b3b3fbe0e2e724afe20f073@squarespace.com
DTSTAMP:20180703T092402Z
DTSTART:20181009T113000Z
DTEND:20181009T133000Z
SUMMARY:L'activité physique
GEO:49.617495;6.09864
LOCATION:Maternité\, 2. Rue Pierre Federspiel\, Luxembourg\, District de Lu
 xembourg\, 1512\, Luxembourg
END:VEVENT
END:VCALENDAR
