BEGIN:VCALENDAR
VERSION:2.0
PRODID:-//Squarespace Inc/Squarespace 6//v6//EN
BEGIN:VEVENT
UID:59eee2b8bce1763ba88a1068@squarespace.com
DTSTAMP:20171113T085654Z
DTSTART:20171119T130000Z
DTEND:20171119T160000Z
SUMMARY:Marathon de Zumba
GEO:49.626765;6.16161
LOCATION:Ellipse Fitness & Wellness\, 33\, Avenue John F. Kennedy\, Luxembo
 urg\, District de Luxembourg\, 1855\, Luxembourg
END:VEVENT
END:VCALENDAR
