BEGIN:VCALENDAR
VERSION:2.0
PRODID:-//Squarespace Inc/Squarespace 6//v6//EN
BEGIN:VEVENT
UID:5b3b3dcb575d1fc8d2f96b5d@squarespace.com
DTSTAMP:20180703T091934Z
DTSTART:20180918T113000Z
DTEND:20180919T133000Z
SUMMARY:Quelles sont les thérapies utilisées en psychooncologie : Hypnose\, 
 EMDR\, Mindfulness
END:VEVENT
END:VCALENDAR
