BEGIN:VCALENDAR
VERSION:2.0
PRODID:-//Squarespace Inc/Squarespace 6//v6//EN
BEGIN:VEVENT
UID:5b83a18fcd8366d1f2d693f4@squarespace.com
DTSTAMP:20180827T070449Z
DTSTART:20180728T100000Z
DTEND:20180729T190000Z
SUMMARY:The Storm -Ladies Tattoo Convention  Edition 2
GEO:49.636043;6.172955
LOCATION:Luxexpo The Box\, 10\, Circuit de La Foire Internationale\, Luxemb
 ourg\, District de Luxembourg\, 1347\, Luxembourg
END:VEVENT
END:VCALENDAR
