BEGIN:VCALENDAR
VERSION:2.0
PRODID:-//Squarespace Inc/Squarespace 6//v6//EN
BEGIN:VEVENT
UID:59e5d52e4c0dbf094076825c@squarespace.com
DTSTAMP:20180827T070031Z
DTSTART:20171028T100000Z
DTEND:20171029T190000Z
SUMMARY:The Storm -Ladies Tattoo Convention 1.Edition
GEO:49.636043;6.172955
LOCATION:Luxexpo The Box\, 10\, Circuit de La Foire Internationale\, Luxemb
 ourg\, District de Luxembourg\, 1347\, Luxembourg
END:VEVENT
END:VCALENDAR
